BEGIN:VCALENDAR
VERSION:2.0
PRODID:-//eventon.com NONSGML v1.0//EN
CALSCALE:GREGORIAN
METHOD:PUBLISH
BEGIN:VEVENT
UID:69e4e58f11c74
DTSTAMP:20260419T142415Z
DTSTART:20240612T060000Z
DTEND:20240612T200000Z
LOCATION:Online Meeting
SUMMARY:Carers Week - Carers! Grants\,  Discounts and Entitlements
DESCRIPTION:Click the link and discover some brilliant ideas to improve you
 r finances as a carer. Wednesday 12th June 6.00 pm &#8211; 8.00 pm Easy to 
 join Microsoft Teams Online Meeting &nbsp; &nbsp; &nbsp;\nhttps://www.north
 tynesidecarers.org.uk/events/carers-week-carers-grants-discounts-and-entitl
 ements/
URL:https://www.northtynesidecarers.org.uk/events/carers-week-carers-grants-discounts-and-entitlements/
END:VEVENT
END:VCALENDAR