BEGIN:VCALENDAR
VERSION:2.0
PRODID:-//eventon.com NONSGML v1.0//EN
CALSCALE:GREGORIAN
METHOD:PUBLISH
BEGIN:VEVENT
UID:69e73f0e99815
DTSTAMP:20260421T091038Z
DTSTART:20240321T180000Z
DTEND:20240321T193000Z
LOCATION:The Allen\,  Life Vineyard Church The Allen\,  Life Vineyard Church\,  The  Green\,  Wallsend NE28 7NP
SUMMARY:AUTISM CARERS' PEER SUPPORT GROUP
DESCRIPTION:Share and learn and be inspired by other carers.  This is the 
 group for carers of someone with a diagnosis of autism. Take the opportunit
 y to relax and have a break from caring at these monthly group meetings sup
 ported by North Tyneside Carers’ Centre AUTISM CARERS&#8217; PEER SUPPORT
  GROUP When:[..]\nhttps://www.northtynesidecarers.org.uk/events/autism-care
 rs-peer-support-group-2/
URL:https://www.northtynesidecarers.org.uk/events/autism-carers-peer-support-group-2/
END:VEVENT
END:VCALENDAR