BEGIN:VCALENDAR
VERSION:2.0
PRODID:-//eventon.com NONSGML v1.0//EN
CALSCALE:GREGORIAN
METHOD:PUBLISH
BEGIN:VEVENT
UID:69e9e98bdf142
DTSTAMP:20260423T094235Z
DTSTART:20230622T130000Z
DTEND:20230622T143000Z
LOCATION:North Shields Scout HQ North Shields Scouts\,  31-35 Norfolk Street\,  North Shields\,  NE30 1NQ
SUMMARY:Positive Vibes
DESCRIPTION:Carers need space\,  time and tried and tested techniques to re
 lax\,  it is vital. Our monthly Positive Vibes sessions are opportunities t
 o learn guided meditation\,  breathing exercises\,  progressive stretching\
 ,  sound therapy and more. Meet at North Shields Scout HQ\,  31-35 Norfolk 
 Street\,  North Shields\,  NE30 1NQ\nhttps://www.northtynesidecarers.org.uk
 /events/positive-vibes/var/ri-1.l-L1
URL:https://www.northtynesidecarers.org.uk/events/positive-vibes/var/ri-1.l-L1
END:VEVENT
END:VCALENDAR