BEGIN:VCALENDAR
VERSION:2.0
PRODID:-//eventon.com NONSGML v1.0//EN
CALSCALE:GREGORIAN
METHOD:PUBLISH
BEGIN:VEVENT
UID:69e750c17fa74
DTSTAMP:20260421T102609Z
DTSTART:20230522T100000Z
DTEND:20230522T130000Z
LOCATION:
SUMMARY:Cooking for Male Carers
DESCRIPTION:Every Monday for 5 weeks we are turning male carers into self-a
 ssured\,  accomplished masters of the arts of cuisine. Often becoming an un
 paid carer means a change of roles and acquiring new skills. The 6 weeks co
 urse at the Linskill Centre is aimed at male carers who want to learn[..]\n
 https://www.northtynesidecarers.org.uk/events/cooking-for-male-carers/
URL:https://www.northtynesidecarers.org.uk/events/cooking-for-male-carers/
END:VEVENT
END:VCALENDAR