BEGIN:VCALENDAR
VERSION:2.0
PRODID:-//eventon.com NONSGML v1.0//EN
CALSCALE:GREGORIAN
METHOD:PUBLISH
BEGIN:VEVENT
UID:69eb3afac1158
DTSTAMP:20260424T094218Z
DTSTART:20200917T140000Z
DTEND:20200917T150000Z
LOCATION:Online Event
SUMMARY:Five Ways to Wellbeing - Session 2
DESCRIPTION:We&#8217;re delighted to announce the return of our popular &#8
 220;Five Ways to Wellbeing&#8221; sessions. The aim of these sessions is to
  help carers reduce loneliness and isolation. Join us for Session Two on 1
 7th September\,  2pm &#8211; 3pm via Microsoft Teams. Subsequent Sessions: 
 24th September 1st October 8th October Each session[..]\nhttps://www.northt
 ynesidecarers.org.uk/events/five-ways-to-wellbeing-session-2/
URL:https://www.northtynesidecarers.org.uk/events/five-ways-to-wellbeing-session-2/
END:VEVENT
END:VCALENDAR